BEGIN:VCALENDAR
VERSION:2.0
PRODID:-//Varnapreneurs - ECPv6.15.20//NONSGML v1.0//EN
CALSCALE:GREGORIAN
METHOD:PUBLISH
X-WR-CALNAME:Varnapreneurs
X-ORIGINAL-URL:https://varnapreneurs.com
X-WR-CALDESC:Events for Varnapreneurs
REFRESH-INTERVAL;VALUE=DURATION:PT1H
X-Robots-Tag:noindex
X-PUBLISHED-TTL:PT1H
BEGIN:VTIMEZONE
TZID:Europe/Sofia
BEGIN:DAYLIGHT
TZOFFSETFROM:+0200
TZOFFSETTO:+0300
TZNAME:EEST
DTSTART:20240331T010000
END:DAYLIGHT
BEGIN:STANDARD
TZOFFSETFROM:+0300
TZOFFSETTO:+0200
TZNAME:EET
DTSTART:20241027T010000
END:STANDARD
BEGIN:DAYLIGHT
TZOFFSETFROM:+0200
TZOFFSETTO:+0300
TZNAME:EEST
DTSTART:20250330T010000
END:DAYLIGHT
BEGIN:STANDARD
TZOFFSETFROM:+0300
TZOFFSETTO:+0200
TZNAME:EET
DTSTART:20251026T010000
END:STANDARD
BEGIN:DAYLIGHT
TZOFFSETFROM:+0200
TZOFFSETTO:+0300
TZNAME:EEST
DTSTART:20260329T010000
END:DAYLIGHT
BEGIN:STANDARD
TZOFFSETFROM:+0300
TZOFFSETTO:+0200
TZNAME:EET
DTSTART:20261025T010000
END:STANDARD
END:VTIMEZONE
BEGIN:VEVENT
DTSTART;TZID=Europe/Sofia:20251103T180000
DTEND;TZID=Europe/Sofia:20251103T220000
DTSTAMP:20260425T065024
CREATED:20250714T074902Z
LAST-MODIFIED:20251024T111003Z
UID:6149-1762192800-1762207200@varnapreneurs.com
SUMMARY:Varnapreneurs Event #27 | 03.11.2025 – гост: Макс Баклаян - Основател и CEO на Tavex България.
DESCRIPTION:Макс Баклаян – Основател и CEO на Tavex България. \nФинансист и предприемач\n🏦 Tavex – компанията\, която превръща златото в знание\, доверие и антиинфлация\n💰 Над 550 милиона лева годишен оборот\n🎁 Подарени над 40 000 грама – защото лоялността е важна\n👥 Над 1 500 000 клиенти – хора\, които инвестират в бъдещето си\n🥇 Компанията е #1 работодател във финансовия сектор в България и носител на над 20 награди\, сред които: \n🏆 Компания на годината. Tavex България е в топ 100 най-големи компании според класацията на Капитал\n 🥇#1 Най-добър работодател в България\nИ нещо любопитно…\n🎓 В Харвард влизат 1 от 29 кандидати\, а в Tavex – 1 от 409\n За 16+ години: 167 000 кандидатури → 408 наети → 153 останали – професионалисти с визия и добавена стойност \n🎟️ КУПИ БИЛЕТ 🎟️ \nИсторията на Макс Баклаян:\n🚶 Предприемаческата стълбица не винаги е позлатена\, но винаги можеш да си я позлатиш \n📍 На 13 години Макс напуска България\, за да учи в арменски пансион във Венеция (Collegio Armeno Moorat Raphaelian)\n🧼 Учи италиански от перачката на пансиона (да\, предприемачеството и предприемчивостта са му в кръвта). \n✈️ На 15 г. заминава сам за Кипър\, без средства и без знанието на родителите си\, но с ясна цел\n📚 Настоява да го приемат в най-добрия арменски пансион в Кипър – Melkonian Educational Institute\, с обещанието: „Ще стана първи по успех в класа“\n✅ Изпълнява го – завършва със Summa Cum Laude с оценки на ниво Оксфорд \nРаботи в САЩ като хамалин\, сервитьор\, барман\n🚀 Стартира първия си бизнес там\n🗣️ Владее 4 езика\, но говори най-добре на езикът на действията и резултатите \n💡 Tavex не започва с бизнес план\, а след лекция в Американския университет в България\, където завършва финанси\, Макс започва с: \n📦 пренасяне на валути в куфари 🔨 топене на злато в гаражи \n🏢 офис в сграда над стриптийз бар\n\n📆 2013 г. – първият голям успех – 1 000 000 лв. печалба от скрап злато\n❌ Вместо почивка или луксозен автомобил…\n✅ Макс инвестира средствата в популяризирането на финансовата култура и превърна инвестиционното злато от непозната тема в достъпно знание и символ на сигурност. И това се отблагодарява 10 години по-късно…  \n🎟️ КУПИ БИЛЕТ 🎟️ \n🪙Tavex днес: лидер и иноватор🪙\n📈 Tavex не просто продава злато\, а притежава пазара\n🚚 Първи в България със застрахована доставка на валута онлайн\n✈️ Първи легални карго полети за износ на ценности\n🧠 Обучават клиентите да мислят като инвеститори\, не като консуматори \n⁉️ За кого е това събитие ⁉️\n✅ За предприемачи\, които мислят дългосрочно\n✅ За хора\, които искат да изградят екипна култура\, която задържа\, а не само наема\n✅ За всеки\, който иска да разбере: \n🔑 Какво е златото в свят с обезценяващи се пари?\n🧠 Какво означава „инвеститорско мислене“ и защо е по-важно от парите?\n💸 Как инфлацията е данък върху незнанието?\n📚Каква е ролята на златото в съвременната финансова система?\n📈 Как парите да работят за теб\, вместо ти за тях?\n💡 Защо финансовата грамотност е истинската суперсила (а ти искаш да я притежаваш\, нали?) \n✍️ Научи от Макс Баклаян:\n🔑 Защо златото е антипод на инфлацията?\n💸 Как да не плащаш данък „инфлация“ чрез незнание?\n📈 Как да инвестираш умно и дългосрочно?\n🎯 Как да мислиш стратегически\, аналитично и с мащаб? \n💎 Какво е „инвестиционно злато“?⏰ Кога\, как и защо да го купиш?\n💪 Как да управляваш финансите си без страх от инфлация?\n🧠 Как да мислиш като Макс – мащабно и стратегически? \n🎟️ КУПИ БИЛЕТ 🎟️ \nТова не е просто Varnapreneurs #27 – това е покана за смяна на гледната точка\, за смяна на перспективата ти.. Ела и стани част от златната нишка!  \n🎯 Ако искаш да градиш\n🎯 Ако искаш да изградиш силен и дисциплиниран екип\n🎯 Ако вярваш\, че знанието е най-ценният капитал \n📅 Тогава това събитие е за теб! \n🚫 Това не е събитие само за банкери и варненски акули 😉 \nЗа кого е?\n💼 Предприемачи и инвеститори\n💰 Хора с интерес към финанси\, инвестиции и умни решения\n✨ Тези\, които знаят\, че златото не е само бижу\, а стратегически ход (или пък не знаят)  \n🔥 Ако си чувал за Вълка от Уолстрийт – чудесно!\n🎯 Но тук ще чуеш Макс Баклаян – на живо\, във Варна.\n🎬 Това не е кино\, това е животът: \nИнвестиции • Истории • Късмет • Труд • Злато • Хъс • Учене цял живот.\n🟨 Злато – не само в каса\, а в мисленето ти! \n🍂 Ноември е златен\, не само защото е есен! Очакваме ви! 😊 \n🕕 18:00 ч. | 📍 The Brick Port\, Варна \n📍 Къде? The Brick Port\, Варна\n📅 Кога? 3 ноември 2025\n🎟️ Билети: 👉 www.varnapreneurs.com/bileti\n📌 Местата са ограничени\, а билети на място няма да се продават! \nПРОГРАМА:\n🚩 18:00 – Отваряме врати\n🚩 18:30 – Официално откриване\n🚩 19:00 – 20:20 – Подкаст на живо и Q&A сесия\n🚩 20:20 – 21:30 – Модериран networking\n🚩 21:30 – Томбола с награди\n🚩 21:35 – Закриване \n🎟️ КУПИ БИЛЕТ 🎟️ \n🔥 Sharing is Caring!\nНашият маркетинг е базиран на препоръки “от уста на уста”\, затова ви каним да споделите събитието в социалните си мрежи! \n✅ Ще бъдете там? Отбележете “Going” / „Ще присъствам“\, за да хвърлите котва на събитието! \nНе сте сигурни? (макар че е малко вероятно)… Отбележете “Interested” / „Имам интерес“ и нека предприемаческите вълни и вълнения стигнат до повече хора! \n🙏 Благодарим\, че сте част от предприемаческата общност на Варна – заедно плуваме към успеха!
URL:https://varnapreneurs.com/event/varnapreneurs-event-27-03-11-2025-gost-maks-baklayan-osnovatel-i-ceo-na-tavex-balgariya/
LOCATION:The Brick Port\, Морска Гара\, The Brick Port\, pl. "Petko R. Slaveykov" 1\, Varna\, Bulgaria\, Varna\, Varna\, 9000\, Bulgaria
ATTACH;FMTTYPE=image/png:https://varnapreneurs.com/wp-content/uploads/2025/07/artboard-3.png
END:VEVENT
END:VCALENDAR