BEGIN:VCALENDAR
VERSION:2.0
PRODID:-//Varnapreneurs - ECPv6.15.20//NONSGML v1.0//EN
CALSCALE:GREGORIAN
METHOD:PUBLISH
X-WR-CALNAME:Varnapreneurs
X-ORIGINAL-URL:https://varnapreneurs.com
X-WR-CALDESC:Events for Varnapreneurs
REFRESH-INTERVAL;VALUE=DURATION:PT1H
X-Robots-Tag:noindex
X-PUBLISHED-TTL:PT1H
BEGIN:VTIMEZONE
TZID:Europe/Sofia
BEGIN:DAYLIGHT
TZOFFSETFROM:+0200
TZOFFSETTO:+0300
TZNAME:EEST
DTSTART:20240331T010000
END:DAYLIGHT
BEGIN:STANDARD
TZOFFSETFROM:+0300
TZOFFSETTO:+0200
TZNAME:EET
DTSTART:20241027T010000
END:STANDARD
BEGIN:DAYLIGHT
TZOFFSETFROM:+0200
TZOFFSETTO:+0300
TZNAME:EEST
DTSTART:20250330T010000
END:DAYLIGHT
BEGIN:STANDARD
TZOFFSETFROM:+0300
TZOFFSETTO:+0200
TZNAME:EET
DTSTART:20251026T010000
END:STANDARD
BEGIN:DAYLIGHT
TZOFFSETFROM:+0200
TZOFFSETTO:+0300
TZNAME:EEST
DTSTART:20260329T010000
END:DAYLIGHT
BEGIN:STANDARD
TZOFFSETFROM:+0300
TZOFFSETTO:+0200
TZNAME:EET
DTSTART:20261025T010000
END:STANDARD
END:VTIMEZONE
BEGIN:VEVENT
DTSTART;TZID=Europe/Sofia:20250929T180000
DTEND;TZID=Europe/Sofia:20250929T220000
DTSTAMP:20260425T070659
CREATED:20250714T074324Z
LAST-MODIFIED:20250921T074257Z
UID:6145-1759168800-1759183200@varnapreneurs.com
SUMMARY:Varnapreneurs Event #26 | 29.09.2025 – гост: Иво Величков - Психотерапевт и автор - РАЗПРОДАДЕНО!
DESCRIPTION:🌀 2 500 000+ гледания. 25+ години опит. 550+ обучения. 3 книги.\n Един експерт: Иво Величков.\nСЪБИТИЕТО Е РАЗПРОДАДЕНО!\n\n #Събитие26 на Varnapreneurs те среща с човека\, който променя съзнания и отключва потенциали.  \n🌌 Психотерапевт. Хипнотерапевт. Автор. Ментален стратег. Мастър по себепознание.\nА зад гърба му – тренировки с руски спецчасти\, посвещения в източни духовни школи и работа с хиляди хора и специалисти. Иво Величков е една от най-популярните и разпознаваеми фигури в съвременната българска психотерапия и хипнотерапия. \n📊 Факти и кариера:\n 🔹 25+ години практика в хипнотерапия и психотерапия\n 🔹 550+ обучения\, семинари и лекции – в зали\, планини\, онлайн и офлайн\n 🔹 2 500 000+ гледания в YouTube \n 🔹 3 висши образования – философия\, психология\, клинична хипноза в Лондон\n 🔹 Автор на 3 книги\, включително популярната „Хипнозата: същност и техники“ – преиздавана 5 пъти и представена в Лондонския панаир на книгата\n 🔹 26 години председател на Българската асоциация по хипноза (180+ членове\, акредитирана от EAAP)\n 🔹 Създател на SATRIUS ACADEMY – уникална академия за себепознание и личностно израстване\n 🔹 Ментален треньор на световна шампионка по вдигане на тежести\, донесла злато за България\n 🔹 Обучил стотици лекари\, дори зъболекари\, психолози и предприемачи\n 🔹 Ко водещ и хипнотизатор в предаването „Хипнотизаторът“\, bTV (2009 г.)\n 🔹 Гост-лектор на най-големите фестивали у нас: „Свободата да бъдеш“\, „Здравей\, Здраве“\, „INsight“\n 🔹 Работи с бойни\, духовни и терапевтични школи – от Русия до Индонезия \n🎟️ КУПИ БИЛЕТ 🎟️ \n🎯 Какво ще научиш и преживееш на живо?\n 🔑 Това няма да е лекция\, а ментално събуждане и пробуждане. Ще си тръгнеш с инструменти за промяна и знания: \n🌀 Какво е хипноза – и защо вече я преживяваш\, дори докато четеш…\n🌀 Как да използваш естествени транс състояния за фокус и успех?\n🌀 Как да управляваш т.нар. „модерна тревожност“?\n🌀 Как бойните изкуства и дишането помагат за контрол на вниманието?\n🌀 Какво е сугестия и как да преодоляваш вътрешните си блокажи?\n🌀 Защо „да обичаш първо себе си“ често е неправилен подход?\n🌀 Как да използваш психиката си като инструмент\, а не враг?\n🌀 Какво следва в ерата на „научната фантастика“\, в която вече живеем? \n🌀 Принципи\, които Иво прилага:\n 🥋 Бойни и духовни системи – от Индонезия и Русия\n 🧘‍♂️ Дихателни практики\, работа с тяло и съзнание\n 🧠 Синтез между психология\, невронаука и източна мъдрост\n 💬 Мастър по теми като: тревожност\, вътрешни конфликти\, ефекта на Дънинг-Крюгер\, Златното сечение и осъзнатост \n💥 Това събитие е за теб\, ако:\n 👉 Си предприемач\, мениджър или просто човек\, търсещ вътрешна устойчивост\n 👉 Си психолог\, треньор\, коуч или ментор\, който иска да работи по-дълбоко и уверено\n 👉 Искаш да рестартираш (или ъпдейтнеш) ума си и да се фокусираш във важното\n 👉 Търсиш нещо по-дълбоко. По-смислено. По-човешко. По-истинско. Търсиш себе си! \n🎟️ КУПИ БИЛЕТ 🎟️ \n👁️ Защо да дойдеш?\n Някои хора просто преподават. Иво Величков трансформира. Той те разклаща и пробужда.. Изкарва те от ума ти – и те връща обратно… различен. \n📌 PS:\n ⚠️ Някои събития променят хода на деня ти.\n А това може да (ще) промени посоката на живота ти.\n Varnapreneurs не се гледа. Не се слуша\, а се преживява.  \nС цялото ти сетиво и Иво Величков на сцената! \n📍 Къде? The Brick Port\, Варна\n📅 Кога? 29 септември 2025\n🎟️ Билети: 👉 www.varnapreneurs.com/bileti\n📌 Местата са ограничени\, а билети на място няма да се продават! \nПРОГРАМА: Внимание\, нов час!\n🚩 18:00 – Отваряме врати\n🚩 18:30 – Официално откриване\n🚩 19:00 – 20:20 – Подкаст на живо и Q&A сесия\n🚩 20:20 – 21:25 – Модериран networking\n🚩 21:25 – Томбола с награди\n🚩 21:35 – Закриване \n🔥 Sharing is Caring!\nНашият маркетинг е базиран на препоръки “от уста на уста”\, затова ви каним да споделите събитието в социалните си мрежи! \n✅ Ще бъдете там? Отбележете “Going” / „Ще присъствам“\, за да хвърлите котва на събитието! \nНе сте сигурни? (макар че е малко вероятно)… Отбележете “Interested” / „Имам интерес“ и нека предприемаческите вълни и вълнения стигнат до повече хора! \n🙏 Благодарим\, че сте част от предприемаческата общност на Варна – заедно плуваме към успеха! \n🎟️ КУПИ БИЛЕТ 🎟️
URL:https://varnapreneurs.com/event/septemvri-2025-ivo-velichkov/
LOCATION:The Brick Port\, Морска Гара\, The Brick Port\, pl. "Petko R. Slaveykov" 1\, Varna\, Bulgaria\, Varna\, Varna\, 9000\, Bulgaria
ATTACH;FMTTYPE=image/png:https://varnapreneurs.com/wp-content/uploads/2025/07/fb-event.3-3.png
END:VEVENT
END:VCALENDAR